Workbook
Name なし: 参加申込書!#REF!
Name ピアノ: 参加申込書!$Z$9
Name 許諾先: 参加申込書!$F$27
Name 支部名: 参加申込書!$N$3
Name 西関東: #REF!
Name 西関東: #REF!
Name 西関東: #REF!
Name 西関東: #REF!
Name 西関東: #REF!
Name 西関東: 参加申込書!$AL$10:$AL$13
Name 東関東: #REF!
Name 東関東: #REF!
Name 東関東: #REF!
Name 東関東: #REF!
Name 東関東: #REF!
Name 東関東: 参加申込書!$AK$10:$AK$13
Name 東京: #REF!
Name 東京: #REF!
Name 東京: #REF!
Name 東京: #REF!
Name 東京: #REF!
Name 東京: 参加申込書!$AM$10
Name 東京都: 参加申込書!$AM$10
Name 東北: #REF!
Name 東北: #REF!
Name 東北: #REF!
Name 東北: #REF!
Name 東北: #REF!
Name 東北: 参加申込書!$AJ$10:$AJ$15
Name 北海道: #REF!
Name 北海道: #REF!
Name 北海道: #REF!
Name 北海道: #REF!
Name 北海道: #REF!
Name 北海道: 参加申込書!$AI$10:$AI$20
Name 北陸: #REF!
Name 北陸: #REF!
Name 北陸: #REF!
Name 北陸: #REF!
Name 北陸: #REF!
Name 北陸: 参加申込書!$AN$10:$AN$12

Sheet 入力および提出方法など
B2: 東日本学校吹奏楽大会 申込みデータ入力および提出方法
B4: このブックに皆さんが関わるシートは５枚あります。要項と下の説明を参考に必要な処理をお願いします。
B6: ◎各シートを表示するには、シート下部の『シート見出し』をクリックします。
O7: シート見出しとは
B16: ◎入力について
B17: ・ | G17: ←各シート、この色の欄に入力してください。
C18: （旧バージョン変換処理して開くと、色が出ない場合があります。ご注意ください）
B19: ・ | C19: 参加申込書のシートに必要事項を入力すると、他のシートに自動で入力される項目がございます。
B21: ◎提出方法について
B22: 内容 | N22: 提出形式・部数等 | V22: 送付方法 | AC22: 提出締切
B23: 参加申込書 | N23: 原本１部（所属長印） | V23: 郵送 | AC23: 代表決定後１週間以内に送付してください 9/26必着
N24: データ（このファイル） | V24: Eメール
B25: プログラム申込書 兼 送金一覧表 | N25: データ（このファイル） | V25: Eメール
B27: 参加費用納入通知・領収書等申請用紙 | N27: 原本１部（コピー可） | V27: 郵送
B28: （振替払込請求書兼受領証の貼付お忘れなく！）
B29: 行動計画書・移動運搬計画書 | N29: データ（このファイル） または 原本１部（コピー可） | V29: Eメール、または郵送 | AC29: ９/30 必着
B30: （変更の都度、ご報告をお願いします！）
B32: ◎送付先
B33: ・ | C33: Eメール：tosuiren2022@gmail.com
B34: ・ | C34: 郵送：〒170-0004 東京都豊島区北大塚 1-10-33 十文字高等学校内 東京都吹奏楽連盟事務局 宛
B36: ◎その他
B37: ・ | C37: 他にも、舞台配置図など提出していただく書類がございます。参加要項の ページをご覧ください。

Sheet 参加申込書
B1: 第22回東日本学校吹奏楽大会 参加申込書 | AH1: （選択してください） | AI1: （選択してください） | AK1: （選択） | AL1: （選択してください） | AM1: （選択してください） | AN1: （選択） | AO1: （選択）
B2: 原本の郵送（職印押印）とデータのEメール送付の両方提出 【データ送付は代表決定後1週間以内にお願いします。最終締切：9/(26)】 | AH2: 小学生 | AI2: 北海道 | AK2: 有 | AL2: ア 出版された作品、または編曲作品で、日本国内で演奏許諾が得られている。 | AM2: 許諾されている | AN2: 鉄道 定期バス | AO2: トラック t数と台数
B3: 部門 | E3: （選択してください） | K3: 連盟名 | N3: （選択してください） | R3: 代表 | T3: 県名 | AH3: 中学校 | AI3: 東北 | AK3: 無 | AL3: イ 未出版だが、演奏許諾が得られている。→（必ず許諾書を添付してください） | AM3: 許諾されていない | AN3: 観光バス （台数） | AO3: その他
T4: 地区名 | AH4: 高等学校 | AI4: 東関東 | AL4: ウ 著作権が消滅している。 | AN4: その他
B5: （ふりがな） | E5: （ | X5: ） | Y5: 出演順 | AI5: 西関東
B6: 団体名 | AI6: 東京
AI7: 北陸
B8: （表彰状名称）
B9: （ふりがな） | E9: （ | M9: ） | N9: 出演者数 | R9: 名 | S9: 楽器運搬 補助員 | W9: 名 | X9: ピアノ 使用 | Z9: （選択） | AH9: （選択してください） | AI9: 北海道 | AJ9: 東北 | AK9: 東関東 | AL9: 西関東 | AM9: 東京 | AN9: 北陸
B10: 指揮者 | AH10: （選択してください） | AI10: 函館地区 | AJ10: 宮城県 | AK10: 栃木県 | AL10: 新潟県 | AM10: 東京都 | AN10: 福井県
AI11: 日胆地区 | AJ11: 岩手県 | AK11: 茨城県 | AL11: 群馬県 | AN11: 石川県
B12: 演奏曲 | C12: 曲名 | E12: （ふりがな） | AI12: 札幌地区 | AJ12: 青森県 | AK12: 千葉県 | AL12: 山梨県 | AN12: 富山県
E13: （邦文） | AI13: 空知地区 | AJ13: 秋田県 | AK13: 神奈川県 | AL13: 埼玉県
AI14: 旭川地区 | AJ14: 山形県
E15: （spelling） | AI15: 帯広地区 | AJ15: 福島県
AI16: 釧路地区
C17: （ふりがな） | E17: （邦文） | F17: （ | M17: ） | N17: （spelling） | Y17: 作曲者生没年 | AI17: 北見地区
C18: 作曲者 | Y18: 生 | AI18: 名寄地区
Y19: 没 | AI19: 留萌地区
C20: （ふりがな） | E20: （邦文） | F20: （ | M20: ） | N20: （spelling） | AI20: 稚内地区
C21: 編曲者
C23: 使用楽譜 出版社等
B25: 著作権 | C25: （選択してください）
C27: =IF(LEFT(C25)="イ","許諾先","") | S27: 録音 録画 | U27: （選択してください）
B29: 団体所在地 （文書送付先） | F29: 〒
F33: TEL | Q33: FAX
B35: 連絡責任者 | F35: （ふりがな） | H35: （ | M35: ）
F36: 氏名 | N36: 勤務先 電 話 | U36: 携帯 電話
B38: 連絡先メールアドレス
B40: 上記のとおり申し込みます｡
W41: 令和４年 | Y41: 月 | AA41: 日
B42: 第22回東日本学校吹奏楽大会会長 折原 弘一 様
J44: 代表者職・氏名 | S44: ・ | Z44: ［印］

Sheet プログラム申込書兼送金一覧表
B1: 第22回東日本学校吹奏楽大会 プログラム申込書 兼 送金一覧表
B2: データのEメール送付【提出期日：9/26㈪】
B3: =参加申込書!B3 -> 部門 | E3: =参加申込書!E3 -> （選択してください） | K3: 連盟名 | N3: =参加申込書!N3 -> （選択してください） | R3: 代表 | T3: 県名 | W3: =参加申込書!W3 -> 0
T4: 地区名
B5: （ふりがな） | E5: （ | F5: =参加申込書!F5 -> 0 | X5: ） | Y5: 出演順
B6: 団体名 | F6: =参加申込書!F6 -> 0 | Y6: =参加申込書!Y6 -> 0
B8: （表彰状名称）
B9: 団体所在地 （文書送付先） | F9: 〒 | G9: =参加申込書!G29 -> 0
G10: =参加申込書!G30 -> 0
F13: TEL | H13: =参加申込書!H33 -> 0 | Q13: FAX | S13: =参加申込書!S33 -> 0
B15: 連絡責任者 | F15: （ふりがな） | H15: （ | I15: =参加申込書!I35 -> 0 | M15: ）
F16: 氏名 | H16: =参加申込書!H36 -> 0 | N16: 勤務先 電 話 | P16: =参加申込書!P36 -> 0 | U16: 携帯 電話 | W16: =参加申込書!W36 -> 0
B19: 入場券プログラム申込枚数および送金一覧
B20: 項目 | M20: 単価 | R20: 数量 | W20: 金額
B21: 参加負担金 | M21: 20000 | Q21: 円 | W21: 20000 | AA21: 円
B23: プログラム | M23: 500 | Q23: 円 | W23: =M23*R23 -> 0 | AA23: 円
B25: ピアノ代 | M25: 5000 | Q25: 円 | R25: =IF(ピアノ="有",1,IF(ピアノ="無",0,"")) | W25: =M25*R25 -> #VALUE! | AA25: 円
B27: 合計 | W27: =SUM(W21:Z26) -> #VALUE! | AA27: 円
B30: ※ | C30: 当申込書提出後の申込数の変更はご遠慮ください。
B32: 上記のとおり申し込みます｡
W33: 平成４年 | Y33: 月 | AA33: 日
B34: 第22回東日本学校吹奏楽大会会長 折原 弘一 様
R36: 申込責任者氏名

Sheet 参加費用納入通知・領収書等申請用紙
C1: 第22回東日本学校吹奏楽大会 参加費用納入通知・領収書等申請用紙
C2: 原本1部（コピー可）を郵送で提出【締切期日：9/26㈪】
C3: =参加申込書!B3 -> 部門 | F3: =参加申込書!E3 -> （選択してください） | L3: 連盟名 | O3: =参加申込書!N3 -> （選択してください） | S3: 代表 | U3: 県名 | X3: =参加申込書!W3 -> 0
U4: 地区名
C5: （ふりがな） | F5: （ | G5: =参加申込書!F5 -> 0 | Y5: ） | Z5: 出演順
C6: 団体名 | G6: =参加申込書!F6 -> 0 | Z6: =参加申込書!Y6 -> 0
C8: （表彰状名称）
C10: 納入費用
C11: 項目 | N11: 単価 | S11: 数量 | X11: 金額
C12: 参加負担金 | N12: 20000 | R12: 円 | X12: 20000 | AB12: 円
C13: プログラム | N13: 500 | R13: 円 | S13: =プログラム申込書兼送金一覧表!R23 -> 0 | X13: =N13*S13 -> 0 | AB13: 円
C14: ピアノ代 | N14: 5000 | R14: 円 | S14: =プログラム申込書兼送金一覧表!R25 | X14: =N14*S14 -> #VALUE! | AB14: 円
C15: 合計 | X15: =SUM(X12:AA14) -> #VALUE! | AB15: 円
C17: 領収書について（領収書が必要な団体のみ記入）
F18: 宛先 | O18: 金額 | T18: 項目
C19: 領収書① | S19: 円
C20: 領収書② | S20: 円
C21: 領収書③ | S21: 円
C23: 振替払込請求書兼受領証 | M23: 公費での支払いについて（市町村公費での支払いがある団体のみ記入）
C24: コピーを貼付してください ※コピーを貼付の上、ご郵送 いただければ当日のご提出 は不要です。 | M24: 支払期日 | R24: 令和 | V24: 年 | Y24: 月 | AB24: 日
M26: 項目・金額 | P26: 項目 | X26: 金額
AB27: 円
AB28: 円
AB29: 円
AB30: 円
AB31: 円
AB32: 円
M33: 支払者等
M35: 支払者等 所在地 | P35: 〒
U39: 令和 | X39: 年 | Z39: 月 | AB39: 日
M40: 第22回東日本学校吹奏楽大会会長 折原 弘一 様
M41: 以上のとおり納入いたしましたので通知します。
M42: 団体名 | R42: =G6 -> 0
M44: 出納責任者 職・氏名 | U44: ・

Sheet 行動計画書・移動運搬計画書
B1: 第22回東日本学校吹奏楽大会 行動計画書・移動計画書 | AG1: （選択してください） | AH1: （選択してください） | AJ1: （選択してください） | AK1: （選択してください） | AL1: （選択してください） | AM1: （選択） | AN1: （選択）
B2: 原本1部（コピー可）を郵送、またはデータをEメール送付【締切期日：9/30㈮】 | AG2: 小学校 | AH2: 北海道 | AJ2: 有 | AK2: ア 出版された作品、または編曲作品で、日本国内で演奏許諾が得られている。 | AL2: 許諾されている | AM2: 鉄道 定期バス | AN2: トラック t数と台数
B3: =参加申込書!B3 -> 部門 | E3: =参加申込書!E3 -> （選択してください） | K3: 連盟名 | N3: =参加申込書!N3 -> （選択してください） | R3: 代表 | T3: 県名 | W3: =参加申込書!W3 -> 0 | AG3: 中学校 | AH3: 東北 | AJ3: 無 | AK3: イ 未出版だが、演奏許諾が得られている。→（必ず許諾書を添付してください） | AL3: 許諾されていない | AM3: 観光バス （台数） | AN3: その他
T4: 地区名 | AG4: 高等学校 | AH4: 東関東 | AK4: ウ 著作権が消滅している。 | AM4: その他
B5: （ふりがな） | E5: （ | F5: =参加申込書!F5 -> 0 | X5: ） | Y5: 出演順 | AH5: 西関東
B6: 団体名 | F6: =参加申込書!F6 -> 0 | Y6: =参加申込書!Y6 -> 0 | AH6: 東京
B7: （表彰状名称） | AH7: 北陸
B8: 団体所在地 （文書送付先） | F8: 〒 | G8: =参加申込書!G29 -> 0
G9: =参加申込書!G30 -> 0 | AG9: （選択してください） | AH9: 北海道 | AI9: 東北 | AJ9: 東関東 | AK9: 西関東 | AL9: 東京 | AM9: 北陸
AG10: （選択してください） | AH10: 函館地区 | AI10: 宮城県 | AJ10: 栃木県 | AK10: 新潟県 | AL10: 東京都 | AM10: 福井県
F11: TEL | H11: =参加申込書!H33 -> 0 | Q11: FAX | S11: =参加申込書!S33 -> 0 | AH11: 日胆地区 | AI11: 岩手県 | AJ11: 茨城県 | AK11: 群馬県 | AM11: 石川県
B12: 連絡責任者 | F12: （ふりがな） | H12: （ | I12: =参加申込書!I35 -> 0 | M12: ） | AH12: 札幌地区 | AI12: 青森県 | AJ12: 千葉県 | AK12: 山梨県 | AM12: 富山県
F13: 氏名 | H13: =参加申込書!H36 -> 0 | N13: 勤務先 電 話 | P13: =参加申込書!P36 -> 0 | U13: 携帯 電話 | W13: =参加申込書!W36 -> 0 | AH13: 空知地区 | AI13: 秋田県 | AJ13: 神奈川県 | AK13: 埼玉県
AH14: 旭川地区 | AI14: 山形県
AH15: 帯広地区 | AI15: 福島県
B16: 前日の行動 | C16: （宿泊伴う場合） | D16: 【例】宿泊先 → ○○会館リハーサル → 宿泊先 8:00 9:00 17:30 18:30
B22: 宿泊先 ホテル名 | Q22: TEL
B24: 当日の行動 | D24: 【例】 《往き》宿泊先〈バス〉→○○会館リハーサル〈バス〉→ 駅（★ 付近降車）〈京王線〉 8:00 9:00 11:00 11:30 →東府中〈徒歩〉→府中の森芸術劇場 11:35 11:50 《帰り》府中の森芸術劇場〈徒歩〉→東府中駅〈京王線〉→ 駅（★ 付近乗車）〈バス〉→宿泊先 16:00 16:20 16:25 17:00 18:00 ※バス乗降場所は例に従い★部分にお示しください。
B42: 楽器運搬 方法 | E42: （選択） | K42: t | O42: 台 | P42: その他 の内容 | AH42: 釧路地区
AH43: 北見地区
B44: 担当旅行会社名 | Q44: TEL
B46: 担当の添乗員名 | Q46: 携帯
B48: バス会社名 | Q48: TEL
Q50: バス利用台数 | Z50: 台
B52: トラック会社名 | Q52: TEL
B54: ※ | C54: 行動計画書は、緊急時に必要ですのでご協力ください。なお、変更があった場合は、その都度ご連絡ください。（できるだけ詳しくお書きください）
B56: ※ | C56: 引率者はバスおよびトラックドライバーの連絡先を必ず把握しておいて下さい。

Sheet （主管連盟作業用1）プログラム情報
A1: 部門 | B1: 出演順 | C1: 連盟名 | D1: 県地区 | E1: 団体名 | F1: 指揮者 | G1: 出演者数 | H1: 曲名（邦文） | I1: 曲名（spelling） | J1: 作曲（邦文） | K1: 作曲（spelling） | L1: 作曲生 | M1: 作曲没 | N1: 編曲（邦文） | O1: 編曲（spelling） | P1: 出版社
A2: =参加申込書!E3 -> （選択してください） | B2: =参加申込書!Y6 -> 0 | C2: =支部名 -> （選択してください） | D2: =参加申込書!W3 -> 0 | E2: =参加申込書!F6 -> 0 | F2: =参加申込書!E10 -> 0 | G2: =参加申込書!P9 -> 0 | H2: =参加申込書!G13 -> 0 | I2: =参加申込書!G15 -> 0 | J2: =参加申込書!F18 -> 0 | K2: =参加申込書!N18 -> 0 | L2: =参加申込書!Z18 -> 0 | M2: =参加申込書!Z19 -> 0 | N2: =参加申込書!F21 -> 0 | O2: =参加申込書!N21 -> 0 | P2: =参加申込書!E23 -> 0

Sheet （主管連盟作業用2）連絡先情報
A1: 部門 | B1: 出演順 | C1: 連盟名 | D1: 県地区 | E1: 団体名 | F1: 団ふり | G1: 団体所在先〒 | H1: 団体所在先 | I1: 団体TEL | J1: 団体FAX | K1: 連絡責任者氏名 | L1: 連絡責任者氏名ふり | M1: 連絡責任者勤務TEL | N1: 連絡責任者携帯 | O1: 代表職 | P1: 代表氏名 | Q1: 連絡先メールアドレス
A2: =参加申込書!E3 -> （選択してください） | B2: =参加申込書!Y6 -> 0 | C2: =支部名 -> （選択してください） | D2: =参加申込書!W3 -> 0 | E2: =参加申込書!F6 -> 0 | F2: =参加申込書!F5 -> 0 | G2: =参加申込書!G29 -> 0 | H2: =参加申込書!G30 -> 0 | I2: =参加申込書!H33 -> 0 | J2: =参加申込書!S33 -> 0 | K2: =参加申込書!H36 -> 0 | L2: =参加申込書!I35 -> 0 | M2: =参加申込書!P36 -> 0 | N2: =参加申込書!W36 -> 0 | O2: =参加申込書!P44 -> 0 | P2: =参加申込書!T44 -> 0 | Q2: =参加申込書!F38 -> 0

Sheet （主管連盟作業用3）納入金情報
A1: 部門 | B1: 出演順 | C1: 連盟名 | D1: 県地区 | E1: 団体名 | F1: 団ふり | G1: ピアノ | H1: 参加負担金 | I1: プログラム | J1: プログラム（金額） | K1: ピアノ（金額） | L1: 支払い合計 | M1: 申込責任者
A2: =参加申込書!E3 -> （選択してください） | B2: =参加申込書!Y6 -> 0 | C2: =支部名 -> （選択してください） | D2: =参加申込書!W3 -> 0 | E2: =参加申込書!F6 -> 0 | F2: =参加申込書!F5 -> 0 | G2: =ピアノ -> （選択） | H2: 20000 | I2: =プログラム申込書兼送金一覧表!R23 -> 0 | J2: =プログラム申込書兼送金一覧表!W23 -> 0 | K2: =プログラム申込書兼送金一覧表!W25 -> #VALUE! | L2: =プログラム申込書兼送金一覧表!W27 -> #VALUE! | M2: =プログラム申込書兼送金一覧表!W36 -> 0

Sheet （主管連盟作業用4）移動情報
A1: 部門 | B1: 出演順 | C1: 連盟名 | D1: 県地区 | E1: 団体名 | F1: 連絡責任者氏名 | G1: 連絡責任者氏名ふり | H1: 連絡責任者勤務TEL | I1: 連絡責任者携帯 | J1: トラックt数 | K1: トラック台数 | L1: その他の運搬 | M1: 宿泊先ホテル | N1: ホテルTEL | O1: 旅行会社 | P1: 旅行会社TEL | Q1: 添乗員名 | R1: 添乗員携帯 | S1: バス会社名 | T1: バス会社TEL | U1: バス台数 | V1: トラック会社名 | W1: トラック会社TEL
A2: =参加申込書!E3 -> （選択してください） | B2: =参加申込書!Y6 -> 0 | C2: =支部名 -> （選択してください） | D2: =参加申込書!W3 -> 0 | E2: =参加申込書!F6 -> 0 | F2: =参加申込書!H36 -> 0 | G2: =参加申込書!I35 -> 0 | H2: =参加申込書!P36 -> 0 | I2: =参加申込書!W36 -> 0 | J2: =行動計画書・移動運搬計画書!H42 -> 0 | K2: =行動計画書・移動運搬計画書!L42 -> 0 | L2: =行動計画書・移動運搬計画書!S42 -> 0 | M2: =行動計画書・移動運搬計画書!E22 -> 0 | N2: =行動計画書・移動運搬計画書!S22 -> 0 | O2: =行動計画書・移動運搬計画書!G44 -> 0 | P2: =行動計画書・移動運搬計画書!S44 -> 0 | Q2: =行動計画書・移動運搬計画書!G46 -> 0 | R2: =行動計画書・移動運搬計画書!S46 -> 0 | S2: =行動計画書・移動運搬計画書!G48 -> 0 | T2: =行動計画書・移動運搬計画書!S48 -> 0 | U2: =行動計画書・移動運搬計画書!W50 -> 0 | V2: =行動計画書・移動運搬計画書!G52 -> 0 | W2: =行動計画書・移動運搬計画書!S52 -> 0

Sheet （主管連盟作業用5）アナウンス情報
A1: 部門 | B1: 出演順 | C1: 連盟名 | D1: 県地区 | E1: 団体名 | F1: 団ふり | G1: 指揮者 | H1: 指ふり | I1: 曲名（邦文） | J1: 曲名（ふり） | K1: 作曲（邦文） | L1: 作曲（ふり）
A2: =参加申込書!E3 -> （選択してください） | B2: =参加申込書!Y6 -> 0 | C2: =支部名 -> （選択してください） | D2: =参加申込書!W3 -> 0 | E2: =参加申込書!F6 -> 0 | F2: =参加申込書!F5 -> 0 | G2: =参加申込書!E10 -> 0 | H2: =参加申込書!F9 -> 0 | I2: =参加申込書!G13 -> 0 | J2: =参加申込書!G12 -> 0 | K2: =参加申込書!F18 -> 0 | L2: =参加申込書!G17 -> 0

Sheet （主管連盟作業用）
A1: 部門 | B1: 出演順 | C1: 連盟名 | D1: 県地区 | E1: 団体名 | F1: 団ふり | G1: 指揮者 | H1: 指ふり | I1: 出演者数 | J1: 運搬補助 | K1: ピアノ | L1: 曲名（ふり） | M1: 曲名（邦文） | N1: 曲名（spelling） | O1: 作曲（ふり） | P1: 作曲（邦文） | Q1: 作曲（spelling） | R1: 作曲生 | S1: 作曲没 | T1: 編曲（ふり） | U1: 編曲（邦文） | V1: 編曲（spelling） | W1: 出版社 | X1: 著作権 | Y1: 許諾先 | Z1: 録音録画 | AA1: 団体所在先〒 | AB1: 団体所在先 | AC1: 団体TEL | AD1: 団体FAX | AE1: 連絡責任者氏名 | AF1: 連絡責任者氏名ふり | AG1: 連絡責任者勤務TEL | AH1: 連絡責任者携帯 | AI1: 代表職 | AJ1: 代表氏名 | AK1: 参加負担金 | AL1: プログラム | AM1: プログラム（金額） | AN1: ピアノ（金額） | AO1: 支払い合計 | AP1: 申込責任者 | AQ1: 連絡責任者 | AR1: 連絡責任者ふり | AS1: 連責勤務先TEL | AT1: 連責携帯TEL | AU1: 会場への交通手段 | AV1: バス台数 | AW1: トラックt数 | AX1: トラック台数 | AY1: その他の運搬 | AZ1: 宿泊先ホテル | BA1: ホテルTEL | BB1: 旅行会社 | BC1: 旅行会社TEL | BD1: 添乗員名 | BE1: 添乗員携帯 | BF1: バス会社名 | BG1: バス会社TEL | BH1: バスドライバー名 | BI1: バスドライバー携帯 | BJ1: トラックドライバー名 | BK1: トラックドライバー携帯
A2: =参加申込書!E3 -> （選択してください） | B2: =参加申込書!Y6 -> 0 | C2: =支部名 -> （選択してください） | D2: =参加申込書!W3 -> 0 | E2: =参加申込書!F6 -> 0 | F2: =参加申込書!F5 -> 0 | G2: =参加申込書!E10 -> 0 | H2: =参加申込書!F9 -> 0 | I2: =参加申込書!P9 -> 0 | J2: =参加申込書!U9 -> 0 | K2: =ピアノ -> （選択） | L2: =参加申込書!G12 -> 0 | M2: =参加申込書!G13 -> 0 | N2: =参加申込書!G15 -> 0 | O2: =参加申込書!G17 -> 0 | P2: =参加申込書!F18 -> 0 | Q2: =参加申込書!N18 -> 0 | R2: =参加申込書!Z18 -> 0 | S2: =参加申込書!Z19 -> 0 | T2: =参加申込書!G20 -> 0 | U2: =参加申込書!F21 -> 0 | V2: =参加申込書!N21 -> 0 | W2: =参加申込書!E23 -> 0 | X2: =参加申込書!C25 -> （選択してください） | Y2: =許諾先 -> 0 | Z2: =参加申込書!U27 -> （選択してください） | AA2: =参加申込書!G29 -> 0 | AB2: =参加申込書!G30 -> 0 | AC2: =参加申込書!H33 -> 0 | AD2: =参加申込書!S33 -> 0 | AE2: =参加申込書!H36 -> 0 | AF2: =参加申込書!I35 -> 0 | AG2: =参加申込書!P36 -> 0 | AH2: =参加申込書!W36 -> 0 | AI2: =参加申込書!P44 -> 0 | AJ2: =参加申込書!T44 -> 0 | AK2: 20000 | AL2: =プログラム申込書兼送金一覧表!R23 -> 0 | AM2: =プログラム申込書兼送金一覧表!W23 -> 0 | AN2: =プログラム申込書兼送金一覧表!W25 -> #VALUE! | AO2: =プログラム申込書兼送金一覧表!W27 -> #VALUE! | AP2: =プログラム申込書兼送金一覧表!W36 -> 0 | AQ2: =行動計画書・移動運搬計画書!H13 -> 0 | AR2: =行動計画書・移動運搬計画書!I12 -> 0 | AS2: =行動計画書・移動運搬計画書!P13 -> 0 | AT2: =行動計画書・移動運搬計画書!W13 -> 0 | AU2: =行動計画書・移動運搬計画書!E42 -> （選択） | AV2: =行動計画書・移動運搬計画書!H42 -> 0 | AW2: =行動計画書・移動運搬計画書!T42 -> 0 | AX2: =行動計画書・移動運搬計画書!X42 -> 0 | AY2: =行動計画書・移動運搬計画書!S42 -> 0 | AZ2: =行動計画書・移動運搬計画書!E22 -> 0 | BA2: =行動計画書・移動運搬計画書!S22 -> 0 | BB2: =行動計画書・移動運搬計画書!G44 -> 0 | BC2: =行動計画書・移動運搬計画書!S44 -> 0 | BD2: =行動計画書・移動運搬計画書!G46 -> 0 | BE2: =行動計画書・移動運搬計画書!S46 -> 0 | BF2: =行動計画書・移動運搬計画書!G48 -> 0 | BG2: =行動計画書・移動運搬計画書!S48 -> 0 | BH2: =行動計画書・移動運搬計画書!#REF! -> #REF! | BI2: =行動計画書・移動運搬計画書!#REF! -> #REF! | BJ2: =行動計画書・移動運搬計画書!#REF! -> #REF! | BK2: =行動計画書・移動運搬計画書!#REF! -> #REF!
